BEGIN:VCALENDAR
VERSION:2.0
PRODID:-//eventon.com NONSGML v1.0//EN
CALSCALE:GREGORIAN
METHOD:PUBLISH
BEGIN:VEVENT
UID:69e774a67d705
DTSTAMP:20260421T125918
DTSTART:20200918T143000Z
DTEND:20200918T170000Z
TZID:UTC
LOCATION:
SUMMARY:Piloto PAP COVID-9: República Dominicana
DESCRIPTION:Proveer de los conocimientos básicos sobre los Primeros Auxilios Psicológicos durante la pandemia de COVID-19 a  los participantes. Fecha:18 de septiembre de 2020 Hora:  2:30 pm República Dominicana Ponentes:  Equipo técnico SMAPS IFRC+ Equipo SMAPS CR Dominicana Lic Lelly Pimentel. &nbsp; Evento cerrado solo para los participantes preseleccionados. Regístrate aquí INSTRUCCIONES PARA[..]\nhttps://volunteeringredcross.org/es/events/piloto-pap-covid-9-republica-dominicana/
URL:https://volunteeringredcross.org/es/events/piloto-pap-covid-9-republica-dominicana/
END:VEVENT
END:VCALENDAR