BEGIN:VCALENDAR
VERSION:2.0
PRODID:-//eventon.com NONSGML v1.0//EN
CALSCALE:GREGORIAN
METHOD:PUBLISH
BEGIN:VEVENT
UID:69ecc633484c2
DTSTAMP:20260425T134835
DTSTART:20200708T080000Z
DTEND:20200708T100000Z
TZID:UTC
LOCATION:
SUMMARY:Protection\,  Gender and Inclusion in Emergencies Toolkit
DESCRIPTION:Topic: IFRC &#8211; PGI in Emergencies Toolkit Launch webinars Why to join: You will learn how the toolkit was developed\,  how it is being applied in various operations\,  and how there is something for everyone in this comprehensive kit for both specialized and mainstreaming efforts in humanitarian response. When: July 8th[..]\nhttps://volunteeringredcross.org/es/events/protection-gender-and-inclusion-in-emergencies-toolkit/
URL:https://volunteeringredcross.org/es/events/protection-gender-and-inclusion-in-emergencies-toolkit/
END:VEVENT
END:VCALENDAR