BEGIN:VCALENDAR
VERSION:2.0
PRODID:-//eventon.com NONSGML v1.0//EN
CALSCALE:GREGORIAN
METHOD:PUBLISH
BEGIN:VEVENT
UID:69e4e197d8e71
DTSTAMP:20260419T140719
DTSTART:20200513T100000Z
DTEND:20200513T110000Z
TZID:UTC
LOCATION:
SUMMARY:MHPSS in COVID-19 Response
DESCRIPTION:As a part of Mental Health Awareness Month. We have organised a group of Webinars to sensitize National Societies of best practices and key tools and techniques for aiding with Psychosocial support initiatives. The COVID-19 Response reinforces the importance of this type of initiative while we find our place in[..]\nhttps://volunteeringredcross.org/en/events/mhpss-in-covid-19-response/
URL:https://volunteeringredcross.org/en/events/mhpss-in-covid-19-response/
END:VEVENT
END:VCALENDAR